BEGIN:VCALENDAR
VERSION:2.0
PRODID:-//Gaddum - ECPv6.15.18//NONSGML v1.0//EN
CALSCALE:GREGORIAN
METHOD:PUBLISH
X-WR-CALNAME:Gaddum
X-ORIGINAL-URL:https://www.gaddum.org.uk
X-WR-CALDESC:Events for Gaddum
REFRESH-INTERVAL;VALUE=DURATION:PT1H
X-Robots-Tag:noindex
X-PUBLISHED-TTL:PT1H
BEGIN:VTIMEZONE
TZID:Europe/London
BEGIN:DAYLIGHT
TZOFFSETFROM:+0000
TZOFFSETTO:+0100
TZNAME:BST
DTSTART:20240331T010000
END:DAYLIGHT
BEGIN:STANDARD
TZOFFSETFROM:+0100
TZOFFSETTO:+0000
TZNAME:GMT
DTSTART:20241027T010000
END:STANDARD
BEGIN:DAYLIGHT
TZOFFSETFROM:+0000
TZOFFSETTO:+0100
TZNAME:BST
DTSTART:20250330T010000
END:DAYLIGHT
BEGIN:STANDARD
TZOFFSETFROM:+0100
TZOFFSETTO:+0000
TZNAME:GMT
DTSTART:20251026T010000
END:STANDARD
BEGIN:DAYLIGHT
TZOFFSETFROM:+0000
TZOFFSETTO:+0100
TZNAME:BST
DTSTART:20260329T010000
END:DAYLIGHT
BEGIN:STANDARD
TZOFFSETFROM:+0100
TZOFFSETTO:+0000
TZNAME:GMT
DTSTART:20261025T010000
END:STANDARD
END:VTIMEZONE
BEGIN:VEVENT
DTSTART;TZID=Europe/London:20250321T123000
DTEND;TZID=Europe/London:20250321T133000
DTSTAMP:20260423T155300
CREATED:20250203T092024Z
LAST-MODIFIED:20250203T133249Z
UID:10000663-1742560200-1742563800@www.gaddum.org.uk
SUMMARY:Peer Support Q&A with Rethink Mental Illness
DESCRIPTION:Join us at our Q&A where a Rethink volunteer will address\nareas peer workers have asked us about\, for example: \n“Working with peers diagnosed with complex emotional needs”\n“Psychosis- specifically building a trusting relationship with people diagnosed with paranoid schizophrenia”\n“Working with people resistant to engage/those with low motivation”\n“Any additional mental health conditions linked to peer support”  \n📍 Location: Online on Zoom\n     Free to attend \nClick here to book your place.\nFor more information\, please email fauzia.ahmed@gaddum.org.uk
URL:https://www.gaddum.org.uk/event/peer-support-qa-with-rethink-mental-illness/
LOCATION:
END:VEVENT
END:VCALENDAR