BEGIN:VCALENDAR
VERSION:2.0
PRODID:-//Gaddum - ECPv6.15.18//NONSGML v1.0//EN
CALSCALE:GREGORIAN
METHOD:PUBLISH
X-WR-CALNAME:Gaddum
X-ORIGINAL-URL:https://www.gaddum.org.uk
X-WR-CALDESC:Events for Gaddum
REFRESH-INTERVAL;VALUE=DURATION:PT1H
X-Robots-Tag:noindex
X-PUBLISHED-TTL:PT1H
BEGIN:VTIMEZONE
TZID:Europe/London
BEGIN:DAYLIGHT
TZOFFSETFROM:+0000
TZOFFSETTO:+0100
TZNAME:BST
DTSTART:20210328T010000
END:DAYLIGHT
BEGIN:STANDARD
TZOFFSETFROM:+0100
TZOFFSETTO:+0000
TZNAME:GMT
DTSTART:20211031T010000
END:STANDARD
BEGIN:DAYLIGHT
TZOFFSETFROM:+0000
TZOFFSETTO:+0100
TZNAME:BST
DTSTART:20220327T010000
END:DAYLIGHT
BEGIN:STANDARD
TZOFFSETFROM:+0100
TZOFFSETTO:+0000
TZNAME:GMT
DTSTART:20221030T010000
END:STANDARD
BEGIN:DAYLIGHT
TZOFFSETFROM:+0000
TZOFFSETTO:+0100
TZNAME:BST
DTSTART:20230326T010000
END:DAYLIGHT
BEGIN:STANDARD
TZOFFSETFROM:+0100
TZOFFSETTO:+0000
TZNAME:GMT
DTSTART:20231029T010000
END:STANDARD
END:VTIMEZONE
BEGIN:VEVENT
DTSTART;TZID=Europe/London:20220301T110000
DTEND;TZID=Europe/London:20220301T120000
DTSTAMP:20260421T010210
CREATED:20220216T144810Z
LAST-MODIFIED:20220217T092820Z
UID:10000260-1646132400-1646136000@www.gaddum.org.uk
SUMMARY:Carers Salford Coffee Morning
DESCRIPTION:Join in our virtual Coffee Mornings for Salford carers on the first Tuesday of every month at 11am. \nIt is a great place to meet other carers\, share skills or hobbies and get some advice on support that is available to you as a carer in Salford. \nIf you would like to join us\, please contact salford.carers@gaddum.org.uk to receive the link\, if you need any help to use or set up Zoom\, we are always happy to help. \n 
URL:https://www.gaddum.org.uk/event/carers-coffee-mornings/
END:VEVENT
BEGIN:VEVENT
DTSTART;TZID=Europe/London:20220222T180000
DTEND;TZID=Europe/London:20220222T190000
DTSTAMP:20260421T010210
CREATED:20220216T151019Z
LAST-MODIFIED:20220216T151019Z
UID:10000264-1645552800-1645556400@www.gaddum.org.uk
SUMMARY:LGBTQ+ Carers Group
DESCRIPTION:Do you identify as LGBTQ+? Do you look after someone? Join us and the LGBT Foundation at our friendly group for LGBTQ+ carers on the last Tuesday of every month from 6pm – 7pm. \nThere will be an opportunity to meet others\, chat about a range of topics and join in social activities\, either online or in person. \nWe are also inviting people to get involved with ongoing plans for the group. Contact keisha.tomlinson@gaddum.org.uk to sign up. \n“Being a part of the LGBTQ+ Carers Network has been a safe place for me to be myself and make new friends that I can share my true feelings with without feeling unheard”\, Carer
URL:https://www.gaddum.org.uk/event/lgbtq-carers-group/
END:VEVENT
BEGIN:VEVENT
DTSTART;TZID=Europe/London:20220222T110000
DTEND;TZID=Europe/London:20220222T130000
DTSTAMP:20260421T010210
CREATED:20220207T130059Z
LAST-MODIFIED:20220216T144048Z
UID:10000256-1645527600-1645534800@www.gaddum.org.uk
SUMMARY:Carers Walk in Fletcher Moss Park
DESCRIPTION:Join Stepping Out with The Ramblers\, Gaddum Carers Salford\, Bury Carers\, Manchester Carers Forum and Wigan & Leigh Carers Centre for a carers walk on Tuesday 22 February\, 11am at Fletcher Moss Park. \nA member of our team will be there to listen or offer advice if you need to talk (a light lunch of a sandwich and tea/coffee is included.) There will be an option of 2 routes\, a short walk or a longer walk. Places are limited and booking is essential. Travel expenses will be reimbursed.  \nFor more information please contact salford.carers@gaddum.org.uk or call 0161 834 6069.
URL:https://www.gaddum.org.uk/event/carers-walk/
LOCATION:Fletcher Moss Park\, 18 Stenner Lane\, Manchester\, M20 2RQ
ATTACH;FMTTYPE=image/jpeg:https://www.gaddum.org.uk/wp-content/uploads/2022/02/Carers-Walk-TW.jpg
END:VEVENT
END:VCALENDAR