BEGIN:VCALENDAR
VERSION:2.0
PRODID:-//Gaddum - ECPv6.15.18//NONSGML v1.0//EN
CALSCALE:GREGORIAN
METHOD:PUBLISH
X-ORIGINAL-URL:https://www.gaddum.org.uk
X-WR-CALDESC:Events for Gaddum
REFRESH-INTERVAL;VALUE=DURATION:PT1H
X-Robots-Tag:noindex
X-PUBLISHED-TTL:PT1H
BEGIN:VTIMEZONE
TZID:Europe/London
BEGIN:DAYLIGHT
TZOFFSETFROM:+0000
TZOFFSETTO:+0100
TZNAME:BST
DTSTART:20220327T010000
END:DAYLIGHT
BEGIN:STANDARD
TZOFFSETFROM:+0100
TZOFFSETTO:+0000
TZNAME:GMT
DTSTART:20221030T010000
END:STANDARD
BEGIN:DAYLIGHT
TZOFFSETFROM:+0000
TZOFFSETTO:+0100
TZNAME:BST
DTSTART:20230326T010000
END:DAYLIGHT
BEGIN:STANDARD
TZOFFSETFROM:+0100
TZOFFSETTO:+0000
TZNAME:GMT
DTSTART:20231029T010000
END:STANDARD
BEGIN:DAYLIGHT
TZOFFSETFROM:+0000
TZOFFSETTO:+0100
TZNAME:BST
DTSTART:20240331T010000
END:DAYLIGHT
BEGIN:STANDARD
TZOFFSETFROM:+0100
TZOFFSETTO:+0000
TZNAME:GMT
DTSTART:20241027T010000
END:STANDARD
END:VTIMEZONE
BEGIN:VEVENT
DTSTART;TZID=Europe/London:20230606T110000
DTEND;TZID=Europe/London:20230606T123000
DTSTAMP:20260424T032042
CREATED:20230517T075534Z
LAST-MODIFIED:20230530T122224Z
UID:10000415-1686049200-1686054600@www.gaddum.org.uk
SUMMARY:Carers Week - Come for a Cuppa - and share your caring tips
DESCRIPTION:What key things have you learnt looking after someone\, that you wish you’d known earlier? Come for a cuppa and share your top tips and tricks with other carers. \nFrom batch cooking\, medical cheat sheets\, grabbing a Carers discount and more\, we want to hear your top go-to’s. \nIf you have tonnes of caring experience\, or have just started looking after someone\, this session is for you. \nWith biscuits and a brew\, we’ll have a natter\, listen and learn from each other. #ItsGoodToTalk \nTo book email salford.carers@gaddum.org.uk or call 0161 834 6069. \n*This special event has been organised as part of Carers Week. Salford Carers asked to share their top tips at a recent Focus Group and we’re delighted to support this co-produced session.
URL:https://www.gaddum.org.uk/event/come-for-a-cuppa-and-share-your-caring-tips/
LOCATION:Pendleton Gateway
CATEGORIES:Coffee mornings
ATTACH;FMTTYPE=image/jpeg:https://www.gaddum.org.uk/wp-content/uploads/2023/05/Untitled-design-2023-05-19T112329.130.jpg
END:VEVENT
END:VCALENDAR