BEGIN:VCALENDAR
VERSION:2.0
PRODID:-//Gaddum - ECPv6.15.18//NONSGML v1.0//EN
CALSCALE:GREGORIAN
METHOD:PUBLISH
X-ORIGINAL-URL:https://www.gaddum.org.uk
X-WR-CALDESC:Events for Gaddum
REFRESH-INTERVAL;VALUE=DURATION:PT1H
X-Robots-Tag:noindex
X-PUBLISHED-TTL:PT1H
BEGIN:VTIMEZONE
TZID:Europe/London
BEGIN:DAYLIGHT
TZOFFSETFROM:+0000
TZOFFSETTO:+0100
TZNAME:BST
DTSTART:20240331T010000
END:DAYLIGHT
BEGIN:STANDARD
TZOFFSETFROM:+0100
TZOFFSETTO:+0000
TZNAME:GMT
DTSTART:20241027T010000
END:STANDARD
BEGIN:DAYLIGHT
TZOFFSETFROM:+0000
TZOFFSETTO:+0100
TZNAME:BST
DTSTART:20250330T010000
END:DAYLIGHT
BEGIN:STANDARD
TZOFFSETFROM:+0100
TZOFFSETTO:+0000
TZNAME:GMT
DTSTART:20251026T010000
END:STANDARD
BEGIN:DAYLIGHT
TZOFFSETFROM:+0000
TZOFFSETTO:+0100
TZNAME:BST
DTSTART:20260329T010000
END:DAYLIGHT
BEGIN:STANDARD
TZOFFSETFROM:+0100
TZOFFSETTO:+0000
TZNAME:GMT
DTSTART:20261025T010000
END:STANDARD
END:VTIMEZONE
BEGIN:VEVENT
DTSTART;TZID=Europe/London:20250612T120000
DTEND;TZID=Europe/London:20250612T160000
DTSTAMP:20260423T125108
CREATED:20250514T170532Z
LAST-MODIFIED:20250514T170532Z
UID:10000675-1749729600-1749744000@www.gaddum.org.uk
SUMMARY:Afternoon Tea – Carers Week
DESCRIPTION:Who doesn’t love an afternoon tea?! \nIf you’re a #SalfordCarer and would like to sample savoury and sweet treats\, we’re putting on a delicious spread just for you. \nFrom coffee and cake\, to sandwich and scones… it’s time to treat yourself to a delightful afternoon of delicious food and good company. \nCome and relax\, connect with other carers\, and enjoy a well-deserved break with us! \nBook your place here: https://forms.office.com/e/vP9AUVfmw1
URL:https://www.gaddum.org.uk/event/afternoon-tea-carers-week/
LOCATION:Pendleton Gateway
CATEGORIES:Carers Events,Carers Week,Workshops / special events
ORGANIZER;CN="Salford Adult Carers Service":MAILTO:salford.carers@gaddum.org.uk
END:VEVENT
BEGIN:VEVENT
DTSTART;TZID=Europe/London:20250612T130000
DTEND;TZID=Europe/London:20250612T140000
DTSTAMP:20260423T125108
CREATED:20250529T093932Z
LAST-MODIFIED:20250529T094034Z
UID:10000681-1749733200-1749736800@www.gaddum.org.uk
SUMMARY:LPA and Deputyship Information Session
DESCRIPTION:To mark Carers Week\, OPG is holding a free online information session for people with caring responsibilities on June 12th from 1PM – 2PM.\nIf you help manage the finances or health of the person you care for\, you may want to learn more about lasting powers of attorney (LPAs)\nand deputyship orders. \nJoin us to find out how to apply\, how much it costs and what the role of an attorney or deputy involves. \nSign up here: https://www.eventbrite.co.uk/e/understanding-lpas-and-deputyships-carers-week-information-session-tickets-1347887390469?aff=oddtdtcreator \n 
URL:https://www.gaddum.org.uk/event/lpa-and-deputyship-information-session/
LOCATION:Online
END:VEVENT
BEGIN:VEVENT
DTSTART;TZID=Europe/London:20250612T130000
DTEND;TZID=Europe/London:20250612T160000
DTSTAMP:20260423T125108
CREATED:20250522T123116Z
LAST-MODIFIED:20250522T123116Z
UID:10000679-1749733200-1749744000@www.gaddum.org.uk
SUMMARY:Carers Market
DESCRIPTION:This is a free event organised by GMMH to celebrate Unpaid Carers in Salford. \nJoin the team from 1pm – 4pm at Woodlands Hospital Main Corridor and browse the variety of stalls on offer. You can experience live music and games whilst browsing a range of crafts and food for sale from local business owners in Salford. \nFor more information\, contact 0161 357 1246
URL:https://www.gaddum.org.uk/event/carers-market/
LOCATION:Woodlands Hospital\, Meadowsweet Lane\, Salford\, M28 0FE\, United Kingdom
END:VEVENT
BEGIN:VEVENT
DTSTART;TZID=Europe/London:20250612T160000
DTEND;TZID=Europe/London:20250612T180000
DTSTAMP:20260423T125108
CREATED:20250514T173306Z
LAST-MODIFIED:20250521T135126Z
UID:10000677-1749744000-1749751200@www.gaddum.org.uk
SUMMARY:Carers’ Showcase – Carers Week
DESCRIPTION:Carers Week is a national week all about valuing and recognising the incredible contribution carers make to families and communities throughout the UK. \nJoin us for a vibrant celebration of creativity at our Carers’ Exhibition. We’ll be showcasing pieces created by carers in Salford\, in the unique and atmospheric Coal Yard\, at Irlam Train Station. \nIt’s a wonderful opportunity to connect with fellow carers\, appreciate their artistic achievements\, and enjoy a moment of community in a relaxed and welcoming setting. \nLight refreshments will be provided. \nWe look forward to seeing you there! Don’t delay\, book your place here: https://forms.office.com/e/vP9AUVfmw1
URL:https://www.gaddum.org.uk/event/carers-showcase-carers-week/
LOCATION:The Station – Irlam\, Station Road\, Irlam\, Manchester\, M44 5ZR\, United Kingdom
CATEGORIES:Carers Events,Carers Week,Coproduction,Workshops / special events
ORGANIZER;CN="Salford Adult Carers Service":MAILTO:salford.carers@gaddum.org.uk
END:VEVENT
END:VCALENDAR