BEGIN:VCALENDAR
VERSION:2.0
PRODID:-//Gaddum - ECPv6.15.18//NONSGML v1.0//EN
CALSCALE:GREGORIAN
METHOD:PUBLISH
X-WR-CALNAME:Gaddum
X-ORIGINAL-URL:https://www.gaddum.org.uk
X-WR-CALDESC:Events for Gaddum
REFRESH-INTERVAL;VALUE=DURATION:PT1H
X-Robots-Tag:noindex
X-PUBLISHED-TTL:PT1H
BEGIN:VTIMEZONE
TZID:Europe/London
BEGIN:DAYLIGHT
TZOFFSETFROM:+0000
TZOFFSETTO:+0100
TZNAME:BST
DTSTART:20240331T010000
END:DAYLIGHT
BEGIN:STANDARD
TZOFFSETFROM:+0100
TZOFFSETTO:+0000
TZNAME:GMT
DTSTART:20241027T010000
END:STANDARD
BEGIN:DAYLIGHT
TZOFFSETFROM:+0000
TZOFFSETTO:+0100
TZNAME:BST
DTSTART:20250330T010000
END:DAYLIGHT
BEGIN:STANDARD
TZOFFSETFROM:+0100
TZOFFSETTO:+0000
TZNAME:GMT
DTSTART:20251026T010000
END:STANDARD
BEGIN:DAYLIGHT
TZOFFSETFROM:+0000
TZOFFSETTO:+0100
TZNAME:BST
DTSTART:20260329T010000
END:DAYLIGHT
BEGIN:STANDARD
TZOFFSETFROM:+0100
TZOFFSETTO:+0000
TZNAME:GMT
DTSTART:20261025T010000
END:STANDARD
END:VTIMEZONE
BEGIN:VEVENT
DTSTART;TZID=Europe/London:20250611T110000
DTEND;TZID=Europe/London:20250611T130000
DTSTAMP:20260423T111436
CREATED:20250514T165346Z
LAST-MODIFIED:20250514T165440Z
UID:10000672-1749639600-1749646800@www.gaddum.org.uk
SUMMARY:Carers Week Stall – Broughton Hub
DESCRIPTION:Come and see our team at their stall in Broughton Hub and have a chat. \nIf you have any questions about what a Carer’s Assessment is and how to get one\, or what support there is for carers… our lovely staff are here with information\, advice and guidance. \nWe’re here to support you in your caring role… no need to book\, just turn up. \nWe’re ordering some merch #totebags #pens\, so grab some SWAG whilst you’re there!
URL:https://www.gaddum.org.uk/event/carers-week-stall-broughton-hub/
LOCATION:Broughton Hub\, 50 Rigby St\, Salford\, M7 4BQ
CATEGORIES:Carers Events,Carers Week,Drop in sessions
ORGANIZER;CN="Salford Adult Carers Service":MAILTO:salford.carers@gaddum.org.uk
END:VEVENT
BEGIN:VEVENT
DTSTART;TZID=Europe/London:20250611T120000
DTEND;TZID=Europe/London:20250611T160000
DTSTAMP:20260423T111436
CREATED:20250514T170003Z
LAST-MODIFIED:20250514T170003Z
UID:10000673-1749643200-1749657600@www.gaddum.org.uk
SUMMARY:Wellbeing & Self Care Session\, with Buffet – Carers Week
DESCRIPTION:Join us for a FREE wellbeing & self-care session in the Barton Suite at Elm Bank! \nThis is your chance to relax\, recharge and unwind with other Salford carers. \nWe’ll be guiding you through gentle relaxation activities and offering a space for mindful journaling and more\, to help you reconnect with yourself. \nIndulge in a delicious buffet lunch\, as part of this wonderful opportunity to focus on your wellbeing. \nCome and prioritise your own wellbeing for a few hours – you deserve it! \nBook your place here: https://forms.office.com/e/vP9AUVfmw1
URL:https://www.gaddum.org.uk/event/wellbeing-self-care-session-with-buffet-carers-week/
LOCATION:Elm Bank\, Conference Centre\, 46 Half Edge Lane\,\, Eccles\, Manchester\, M30 9BA\, United Kingdom
CATEGORIES:Carers Events,Carers Week,Workshops / special events
ORGANIZER;CN="Salford Adult Carers Service":MAILTO:salford.carers@gaddum.org.uk
END:VEVENT
BEGIN:VEVENT
DTSTART;TZID=Europe/London:20250611T180000
DTEND;TZID=Europe/London:20250611T200000
DTSTAMP:20260423T111436
CREATED:20250514T170228Z
LAST-MODIFIED:20250514T170228Z
UID:10000674-1749664800-1749672000@www.gaddum.org.uk
SUMMARY:Carers Evening Social – Carers Week
DESCRIPTION:Wind down after a busy day and join us for a relaxed and informal Carers Social at the lovely Langworthy Cornerstone\, a welcoming and chilled-out community centre. \nTaking place in the evening\, this is the perfect opportunity for #workingcarers and all other carers to connect in a comfortable and supportive environment. \nCome along and chat about whatever’s on your mind – share experiences\, offer support\, or simply enjoy some friendly conversation. \nWe’ll be going with the flow\, creating a space where you can feel heard and understood. It’s your time to unwind and connect with others who understand the joys and challenges of caring. \nWe look forward to seeing you there! \nBook your place here: https://forms.office.com/e/vP9AUVfmw1
URL:https://www.gaddum.org.uk/event/carers-evening-social-carers-week/
LOCATION:Langworthy Cornerstone\, 451 Liverpool Street\, Salford\, M6 5QQ
CATEGORIES:Carers Events,Carers Week
ORGANIZER;CN="Salford Adult Carers Service":MAILTO:salford.carers@gaddum.org.uk
END:VEVENT
END:VCALENDAR