BEGIN:VCALENDAR
VERSION:2.0
PRODID:-//Gaddum - ECPv6.15.18//NONSGML v1.0//EN
CALSCALE:GREGORIAN
METHOD:PUBLISH
X-ORIGINAL-URL:https://www.gaddum.org.uk
X-WR-CALDESC:Events for Gaddum
REFRESH-INTERVAL;VALUE=DURATION:PT1H
X-Robots-Tag:noindex
X-PUBLISHED-TTL:PT1H
BEGIN:VTIMEZONE
TZID:Europe/London
BEGIN:DAYLIGHT
TZOFFSETFROM:+0000
TZOFFSETTO:+0100
TZNAME:BST
DTSTART:20240331T010000
END:DAYLIGHT
BEGIN:STANDARD
TZOFFSETFROM:+0100
TZOFFSETTO:+0000
TZNAME:GMT
DTSTART:20241027T010000
END:STANDARD
BEGIN:DAYLIGHT
TZOFFSETFROM:+0000
TZOFFSETTO:+0100
TZNAME:BST
DTSTART:20250330T010000
END:DAYLIGHT
BEGIN:STANDARD
TZOFFSETFROM:+0100
TZOFFSETTO:+0000
TZNAME:GMT
DTSTART:20251026T010000
END:STANDARD
BEGIN:DAYLIGHT
TZOFFSETFROM:+0000
TZOFFSETTO:+0100
TZNAME:BST
DTSTART:20260329T010000
END:DAYLIGHT
BEGIN:STANDARD
TZOFFSETFROM:+0100
TZOFFSETTO:+0000
TZNAME:GMT
DTSTART:20261025T010000
END:STANDARD
END:VTIMEZONE
BEGIN:VEVENT
DTSTART;TZID=Europe/London:20250609T110000
DTEND;TZID=Europe/London:20250609T140000
DTSTAMP:20260423T111529
CREATED:20250514T163031Z
LAST-MODIFIED:20250529T143426Z
UID:10000668-1749466800-1749477600@www.gaddum.org.uk
SUMMARY:Treasure Hunt & Lunch – Carers Week
DESCRIPTION:Salford carers come and grab your map and clues\, gather the answers on a stroll around Media City and turn your answer sheet in for a meal on us at Beefeater. Did we mention there are prizes for first\, second\, and third places? \nBooking is essential: https://forms.office.com/e/vP9AUVfmw1
URL:https://www.gaddum.org.uk/event/treasure-hunt-lunch-carers-week/
LOCATION:Media City\, Salford
CATEGORIES:Carers Events,Carers Week,Workshops / special events
ORGANIZER;CN="Salford Adult Carers Service":MAILTO:salford.carers@gaddum.org.uk
END:VEVENT
BEGIN:VEVENT
DTSTART;TZID=Europe/London:20250609T110000
DTEND;TZID=Europe/London:20250609T140000
DTSTAMP:20260423T111529
CREATED:20250514T163631Z
LAST-MODIFIED:20250514T163631Z
UID:10000669-1749466800-1749477600@www.gaddum.org.uk
SUMMARY:Carers Week Stall – Salford Royal Hospital
DESCRIPTION:Do you have any questions about your caring role? \nWould you like to see a friendly face who “gets it”? \nCome and see our team at their stall in Salford Royal Hospital (Hope Building) – pick up some goodies and have a chat. \nIf you have any questions about what a Carer’s Assessment is and how to get one\, or what support there is for carers\, our lovely staff are here with information\, advice and guidance. \nWhether you’re visiting a loved one in hospital\, or you’re local to the area\, come and say hi. We’re here to support you in your caring role. No need to book\, just turn up! \n*A carer is anyone who cares\, unwaged\, for a family member\, partner\, friend\, or neighbour\, who due to illness\, disability\, frailty\, a mental health condition\, substance use\, or addiction\, cannot cope without their support. (This includes people receiving/eligible to receive Carer’s Allowance\, Carer’s Personal Budget etc.)
URL:https://www.gaddum.org.uk/event/carers-week-stall-salford-royal-hospital/
LOCATION:Salford Royal Hospital
CATEGORIES:Carers Events,Carers Week,Drop in sessions
ORGANIZER;CN="Salford Adult Carers Service":MAILTO:salford.carers@gaddum.org.uk
END:VEVENT
BEGIN:VEVENT
DTSTART;TZID=Europe/London:20250609T180000
DTEND;TZID=Europe/London:20250609T200000
DTSTAMP:20260423T111529
CREATED:20250529T093411Z
LAST-MODIFIED:20250529T094231Z
UID:10000680-1749492000-1749499200@www.gaddum.org.uk
SUMMARY:Carers Week 2025 Evening Celebration
DESCRIPTION:Come join us in the Salford Suite on the evening of Monday 9th June from 6pm – 8pm to hear about the views of carers on the future Salford Strategy and celebrate with tea\, coffee and cake! \nLocal Councillor bookings only via this Eventbrite: Carers Week 2025 – Evening Celebration – Local Councillor Tickets \nUnwaged Carer bookings only via this Eventbrite: Carers Week 2025 Evening Celebration – Unwaged Carer Tickets \n  \nSalford Suite \nSalford Civic Centre \nChorley Road \nSwinton \nM27 5DA
URL:https://www.gaddum.org.uk/event/carers-week-2025-evening-celebration/
LOCATION:Salford Civic Centre\, Chorley Road\, Swinton\, Greater Manchester\, M27 5DA\, United Kingdom
END:VEVENT
END:VCALENDAR